BEGIN:VCALENDAR
VERSION:2.0
METHOD:PUBLISH
PRODID:-//Event-List//NONSGML Event-List 5.0.3//DE
X-WR-TIMEZONE:Europe/Berlin
CALSCALE:GREGORIAN
BEGIN:VTIMEZONE
TZID:Europe/Berlin
BEGIN:DAYLIGHT
TZOFFSETFROM:+0100
TZOFFSETTO:+0200
DTSTART:19810329T020000
RRULE:FREQ=YEARLY;BYMONTH=3;BYDAY=-1SU
TZNAME:CEST
END:DAYLIGHT
BEGIN:STANDARD
TZOFFSETFROM:+0200
TZOFFSETTO:+0100
DTSTART:19961027T030000
RRULE:FREQ=YEARLY;BYMONTH=10;BYDAY=-1SU
TZNAME:CET
END:STANDARD
END:VTIMEZONE
BEGIN:VEVENT
DTSTAMP:20180921T171333Z
DTSTART;TZID=Europe/Berlin:20181104T110000
DTEND;TZID=Europe/Berlin:20181104T160000
UID:187@www.modellbahnmarkt-veranstaltungen.de/calendar
CLASS:PUBLIC
SUMMARY:34. Aalener Modelleisenbahnbörse
DESCRIPTION:An- und Verkauf, sowie Tausch von Modelleisenbahnen aller
  Spuren,\nModellbahnzubehör, Modellautos, Eisenbahnliteratur u.
  ä.\nTische:	Größe 120/70 cm,  €  18,50  pro Tisch 
  \n	Größe 175/70 cm,  €  27,00  pro Tisch  \nAusstellung
  einer Märklin Anlage H0
CONTACT:Eisenbahnfreunde Aalen e.V.\, Hans Weiß\, Walkstr.22\, 73431 Aalen\, 07173/6959\, Fax 07173/914819
LOCATION:Stadthalle Aalen\, Beriner Platz1\, 73430 Aalen
CATEGORIES:Modellbahn
END:VEVENT
END:VCALENDAR
