BEGIN:VCALENDAR
VERSION:2.0
METHOD:PUBLISH
PRODID:-//Event-List//NONSGML Event-List 5.0.3//DE
X-WR-TIMEZONE:Europe/Berlin
CALSCALE:GREGORIAN
BEGIN:VTIMEZONE
TZID:Europe/Berlin
BEGIN:DAYLIGHT
TZOFFSETFROM:+0100
TZOFFSETTO:+0200
DTSTART:19810329T020000
RRULE:FREQ=YEARLY;BYMONTH=3;BYDAY=-1SU
TZNAME:CEST
END:DAYLIGHT
BEGIN:STANDARD
TZOFFSETFROM:+0200
TZOFFSETTO:+0100
DTSTART:19961027T030000
RRULE:FREQ=YEARLY;BYMONTH=10;BYDAY=-1SU
TZNAME:CET
END:STANDARD
END:VTIMEZONE
BEGIN:VEVENT
DTSTAMP:20190913T085051Z
DTSTART;TZID=Europe/Berlin:20191110T110000
DTEND;TZID=Europe/Berlin:20191110T160000
UID:212@www.modellbahnmarkt-veranstaltungen.de/calendar
CLASS:PUBLIC
SUMMARY:Modellbahn- Puppen und Spielzeugmarkt Merklingen
DESCRIPTION:Ankauf - Verkauf - Tausch \nvon Modelleisenbahnen, Modellautos, Puppen,
  Zubehör, Literatur.\nTraditionsreichste Veranstaltung dieser Art auf
  der schwäbischen Alb mit 35 jähriger Veranstaltererfahrung.\nSie
  ereichen uns:\nMerklingen liegt direkt an der BAB 8 zwischen Stuttgart und
  Ulm, Ausfahrt Merklingen.
CONTACT:Modellbahn Schwaben\, G.Gaal\, Am Buchrain 4\, 73312 Geislingen\, 0170-350 96 73 ab 19 Uhr\, Fax ----
LOCATION:Mehrzweckhalle\, Rippmannstr\, 89188 Merklingen
CATEGORIES:Modellbahn
END:VEVENT
END:VCALENDAR
