BEGIN:VCALENDAR
VERSION:2.0
METHOD:PUBLISH
PRODID:-//Event-List//NONSGML Event-List 5.0.3//DE
X-WR-TIMEZONE:Europe/Berlin
CALSCALE:GREGORIAN
BEGIN:VTIMEZONE
TZID:Europe/Berlin
BEGIN:DAYLIGHT
TZOFFSETFROM:+0100
TZOFFSETTO:+0200
DTSTART:19810329T020000
RRULE:FREQ=YEARLY;BYMONTH=3;BYDAY=-1SU
TZNAME:CEST
END:DAYLIGHT
BEGIN:STANDARD
TZOFFSETFROM:+0200
TZOFFSETTO:+0100
DTSTART:19961027T030000
RRULE:FREQ=YEARLY;BYMONTH=10;BYDAY=-1SU
TZNAME:CET
END:STANDARD
END:VTIMEZONE
BEGIN:VEVENT
DTSTAMP:20191102T221718Z
DTSTART;TZID=Europe/Berlin:20191130T100000
DTEND;TZID=Europe/Berlin:20191130T160000
UID:232@www.modellbahnmarkt-veranstaltungen.de/calendar
CLASS:PUBLIC
SUMMARY:5. Sontheimer Modellbaubörse
DESCRIPTION:An- und Verkauf, sowie Tausch von Modelleisenbahnen aller Spuren,
  Modellbahnzubehör, Modellautos, Eisenbahnliteratur, antik Spielzeug u.
  ä.\n
CONTACT:IGS Sontheim\, Denis Kröner\, Schumannstraße 13\, 89567 Sontheim/Brenz\, 0172.6290947
LOCATION:5. Sontheimer Modellbaubörse\, Neustraße 24\, 89567 Sontheim/Brenz
END:VEVENT
END:VCALENDAR
