BEGIN:VCALENDAR
VERSION:2.0
METHOD:PUBLISH
PRODID:-//Event-List//NONSGML Event-List 5.0.3//DE
X-WR-TIMEZONE:Europe/Berlin
CALSCALE:GREGORIAN
BEGIN:VTIMEZONE
TZID:Europe/Berlin
BEGIN:DAYLIGHT
TZOFFSETFROM:+0100
TZOFFSETTO:+0200
DTSTART:19810329T020000
RRULE:FREQ=YEARLY;BYMONTH=3;BYDAY=-1SU
TZNAME:CEST
END:DAYLIGHT
BEGIN:STANDARD
TZOFFSETFROM:+0200
TZOFFSETTO:+0100
DTSTART:19961027T030000
RRULE:FREQ=YEARLY;BYMONTH=10;BYDAY=-1SU
TZNAME:CET
END:STANDARD
END:VTIMEZONE
BEGIN:VEVENT
DTSTAMP:20191114T123710Z
DTSTART;TZID=Europe/Berlin:20191124T100000
DTEND;TZID=Europe/Berlin:20191124T160000
UID:235@www.modellbahnmarkt-veranstaltungen.de/calendar
CLASS:PUBLIC
SUMMARY:Modelleisenbahn-, Auto- u. Spielzeugbörse BUTZBACH
DESCRIPTION:Modelleisenbahn-, Auto- u. Spielzeugbörse BUTBACH\nvon 10:00 bis 16:00
  Uhr, im Bürgerhaus von 35510\nButzbach, auf über 1000 qm
  Fläche, mit Lokdoktor\nund einer 8m große TT-Modulanlage
CONTACT:Antonette Baum\, Hassia-Straße 10\, 35510 Butzbach\, 06033 74833-90\, Fax 06033 74833-91
LOCATION:Bürgerhaus Butzbach\, Gutenbergstr. 16\, 35510 Butzbach
CATEGORIES:Modellbahn,Flohmarkt
END:VEVENT
END:VCALENDAR
