BEGIN:VCALENDAR
VERSION:2.0
METHOD:PUBLISH
PRODID:-//Event-List//NONSGML Event-List 5.0.3//DE
X-WR-TIMEZONE:Europe/Berlin
CALSCALE:GREGORIAN
BEGIN:VTIMEZONE
TZID:Europe/Berlin
BEGIN:DAYLIGHT
TZOFFSETFROM:+0100
TZOFFSETTO:+0200
DTSTART:19810329T020000
RRULE:FREQ=YEARLY;BYMONTH=3;BYDAY=-1SU
TZNAME:CEST
END:DAYLIGHT
BEGIN:STANDARD
TZOFFSETFROM:+0200
TZOFFSETTO:+0100
DTSTART:19961027T030000
RRULE:FREQ=YEARLY;BYMONTH=10;BYDAY=-1SU
TZNAME:CET
END:STANDARD
END:VTIMEZONE
BEGIN:VEVENT
DTSTAMP:20201017T105556Z
DTSTART;TZID=Europe/Berlin:20201024T130000
DTEND;TZID=Europe/Berlin:20201024T170000
UID:254@www.modellbahnmarkt-veranstaltungen.de/calendar
CLASS:PUBLIC
SUMMARY:Abgesagt!    Eppelheimer Modellbahn- u. Spielzeugmarkt
DESCRIPTION:Verkauf v. Modelleisenbahnen u. Zubehör, Modellautos, Kataloge,
  Fachliteratur, Blechspielzeug usw.\nDie Veranstaltung fällt wegen
  Corona aus!  
CONTACT:BAUDER Spielzeugmärkte\, 06268- 719
LOCATION:Rudolf-Wild-Halle - Schulstraße 6\, 69214 Eppelheim
END:VEVENT
END:VCALENDAR
